BEGIN:VCALENDAR
VERSION:2.0
PRODID:-//Netherworld - ECPv6.15.20//NONSGML v1.0//EN
CALSCALE:GREGORIAN
METHOD:PUBLISH
X-ORIGINAL-URL:https://www.netherworldarcade.com
X-WR-CALDESC:Events for Netherworld
REFRESH-INTERVAL;VALUE=DURATION:PT1H
X-Robots-Tag:noindex
X-PUBLISHED-TTL:PT1H
BEGIN:VTIMEZONE
TZID:Australia/Brisbane
BEGIN:STANDARD
TZOFFSETFROM:+1000
TZOFFSETTO:+1000
TZNAME:AEST
DTSTART:20250101T000000
END:STANDARD
END:VTIMEZONE
BEGIN:VEVENT
DTSTART;TZID=Australia/Brisbane:20260507T180000
DTEND;TZID=Australia/Brisbane:20260507T210000
DTSTAMP:20260424T083531
CREATED:20260407T050107Z
LAST-MODIFIED:20260407T050107Z
UID:10002162-1778176800-1778187600@www.netherworldarcade.com
SUMMARY:Monster Mash: Double Feature Art Show
DESCRIPTION:Come ghouls from your humble abodes! Join us for Monster Mash: Double Feature as Emetic Art & Loretta Polyester present a selection of spooky artworks to feast your eyeballs upon.\n\nIt kicks off for opening night on Thursday the 7th of May from 6pm and is free to join in. Show is running until June 3rd with pieces available for purchase. \nemeticart.bigcartel.com // @emetic_art\nwww.shoppolyester.com/hello // @lorettapolyesterstudio
URL:https://www.netherworldarcade.com/event/monster-mash-double-feature-art-show/
LOCATION:Netherworld\, 186 Brunswick Street\, Fortitude Valley\, QLD\, 4006\, Australia
CATEGORIES:Art Shows
ATTACH;FMTTYPE=image/jpeg:https://www.netherworldarcade.com/wp-content/uploads/2026/04/Monster-Madness.jpg
GEO:-27.4558148;153.0321039
X-APPLE-STRUCTURED-LOCATION;VALUE=URI;X-ADDRESS=Netherworld 186 Brunswick Street Fortitude Valley QLD 4006 Australia;X-APPLE-RADIUS=500;X-TITLE=186 Brunswick Street:geo:153.0321039,-27.4558148
END:VEVENT
END:VCALENDAR