BEGIN:VCALENDAR
VERSION:2.0
PRODID:-//Netherworld - ECPv6.15.20//NONSGML v1.0//EN
CALSCALE:GREGORIAN
METHOD:PUBLISH
X-WR-CALNAME:Netherworld
X-ORIGINAL-URL:https://www.netherworldarcade.com
X-WR-CALDESC:Events for Netherworld
REFRESH-INTERVAL;VALUE=DURATION:PT1H
X-Robots-Tag:noindex
X-PUBLISHED-TTL:PT1H
BEGIN:VTIMEZONE
TZID:Australia/Brisbane
BEGIN:STANDARD
TZOFFSETFROM:+1000
TZOFFSETTO:+1000
TZNAME:AEST
DTSTART:20240101T000000
END:STANDARD
END:VTIMEZONE
BEGIN:VEVENT
DTSTART;TZID=Australia/Brisbane:20260414T180000
DTEND;TZID=Australia/Brisbane:20260414T220000
DTSTAMP:20260424T045624
CREATED:20260324T063828Z
LAST-MODIFIED:20260329T023016Z
UID:10002151-1776189600-1776204000@www.netherworldarcade.com
SUMMARY:Horrid Little Things
DESCRIPTION:Join us for HORRID LITTLE THINGS\, a monthly event where we make nasty tiny creatures with polymer clay\, bake ‘em and give them a fresh coat of gunky paint. It happens over a couple of the rooms in Lost Souls with a host and includes all materials needed along with your first drink. It happens from 6pm until 10pm monthly. Time it right and you’ll grab a Hellmouth Diner meal while your critter is frying in the oven. Tickets are limited to 16 persons and can be grabbed below!
URL:https://www.netherworldarcade.com/event/horrid-little-things-4/
LOCATION:Netherworld\, 186 Brunswick Street\, Fortitude Valley\, QLD\, 4006\, Australia
CATEGORIES:Craft
ATTACH;FMTTYPE=image/jpeg:https://www.netherworldarcade.com/wp-content/uploads/2025/05/Horrdi-Little-Things-Posterwe.jpg
GEO:-27.4558148;153.0321039
X-APPLE-STRUCTURED-LOCATION;VALUE=URI;X-ADDRESS=Netherworld 186 Brunswick Street Fortitude Valley QLD 4006 Australia;X-APPLE-RADIUS=500;X-TITLE=186 Brunswick Street:geo:153.0321039,-27.4558148
END:VEVENT
BEGIN:VEVENT
DTSTART;TZID=Australia/Brisbane:20260331T183000
DTEND;TZID=Australia/Brisbane:20260331T210000
DTSTAMP:20260424T045624
CREATED:20260217T105140Z
LAST-MODIFIED:20260217T105140Z
UID:10002124-1774981800-1774990800@www.netherworldarcade.com
SUMMARY:Captain Snips Collage Creations
DESCRIPTION:Join us armed with a glue stick and a pair of scissors on the seven seas for CAPTAIN SNIPS COLLAGE CREATIONS! \nWe’ll provide the magazines\, an A3 backing board\, glue\, scissors\, some bling and an optional theme. You’ll grab a beer\, cut up some magazines and get creative with collage. \nSafety with scissors is paramount\, Captain Snips has seen far too many hook hands and peg legs in their years to not take it seriously. \nIt kicks off at 6.30pm and each ticket comes with your first drink and the materials – grab them via www.netherworldarcade.com/events! \nTo note: \nThe event will be spread across the main area and rooms of Lost Souls\, with work spaces mainly happening in the middle bar area.\nLost Souls will not be available for karaoke during this session.\nHellmouth Diner meals can be eaten in the Lost Souls Bar Area while you art.
URL:https://www.netherworldarcade.com/event/captain-snips-collage-creations-4/
LOCATION:Netherworld\, 186 Brunswick Street\, Fortitude Valley\, QLD\, 4006\, Australia
CATEGORIES:Craft
ATTACH;FMTTYPE=image/jpeg:https://www.netherworldarcade.com/wp-content/uploads/2024/06/NW-Poster-Captain-Snips-Web.jpg
GEO:-27.4558148;153.0321039
X-APPLE-STRUCTURED-LOCATION;VALUE=URI;X-ADDRESS=Netherworld 186 Brunswick Street Fortitude Valley QLD 4006 Australia;X-APPLE-RADIUS=500;X-TITLE=186 Brunswick Street:geo:153.0321039,-27.4558148
END:VEVENT
BEGIN:VEVENT
DTSTART;TZID=Australia/Brisbane:20260326T183000
DTEND;TZID=Australia/Brisbane:20260326T210000
DTSTAMP:20260424T045624
CREATED:20260227T041242Z
LAST-MODIFIED:20260227T041323Z
UID:10002141-1774549800-1774558800@www.netherworldarcade.com
SUMMARY:Monster Life Drawing
DESCRIPTION:Join us for Monster Life Drawing in Netherworld’s Lost Souls Bar! \nIn conjunction with Fortitude Valley SFX queen Megan Farquharson Makeup Artist (IG @_mf_fx)\, we’re digging into a night of illustrations with a twist. We’ll provide you with the materials for a handful of still life and life drawing setups\, but in the way you’d expect from the Netherworld. You’ll be presented with fantasy\, horror and sci fi inspired models in costume and SFX makeup\, alongside creatures and items from the depths of the Netherworld. \nEach ticket comes with your first drink\, the materials and an evening of illustration guided by a host. \nThis session happens on Thursday the 26th of March at 6.30pm – grab a spot below!
URL:https://www.netherworldarcade.com/event/monster-life-drawing-6/
LOCATION:Netherworld\, 186 Brunswick Street\, Fortitude Valley\, QLD\, 4006\, Australia
CATEGORIES:Craft
ATTACH;FMTTYPE=image/jpeg:https://www.netherworldarcade.com/wp-content/uploads/2025/01/lifedraw.jpeg
GEO:-27.4558148;153.0321039
X-APPLE-STRUCTURED-LOCATION;VALUE=URI;X-ADDRESS=Netherworld 186 Brunswick Street Fortitude Valley QLD 4006 Australia;X-APPLE-RADIUS=500;X-TITLE=186 Brunswick Street:geo:153.0321039,-27.4558148
END:VEVENT
BEGIN:VEVENT
DTSTART;TZID=Australia/Brisbane:20260324T180000
DTEND;TZID=Australia/Brisbane:20260324T220000
DTSTAMP:20260424T045624
CREATED:20260211T025315Z
LAST-MODIFIED:20260211T025315Z
UID:10002095-1774375200-1774389600@www.netherworldarcade.com
SUMMARY:Horrid Little Things
DESCRIPTION:Join us for HORRID LITTLE THINGS\, a monthly event where we make nasty tiny creatures with polymer clay\, bake ‘em and give them a fresh coat of gunky paint. It happens over a couple of the rooms in Lost Souls with a host and includes all materials needed along with your first drink. It happens from 6pm until 10pm monthly. Time it right and you’ll grab a Hellmouth Diner meal while your critter is frying in the oven. Tickets are limited to 16 persons and can be grabbed below!
URL:https://www.netherworldarcade.com/event/horrid-little-things-3/
LOCATION:Netherworld\, 186 Brunswick Street\, Fortitude Valley\, QLD\, 4006\, Australia
CATEGORIES:Craft
ATTACH;FMTTYPE=image/jpeg:https://www.netherworldarcade.com/wp-content/uploads/2025/05/Horrdi-Little-Things-Posterwe.jpg
GEO:-27.4558148;153.0321039
X-APPLE-STRUCTURED-LOCATION;VALUE=URI;X-ADDRESS=Netherworld 186 Brunswick Street Fortitude Valley QLD 4006 Australia;X-APPLE-RADIUS=500;X-TITLE=186 Brunswick Street:geo:153.0321039,-27.4558148
END:VEVENT
BEGIN:VEVENT
DTSTART;TZID=Australia/Brisbane:20260226T183000
DTEND;TZID=Australia/Brisbane:20260226T210000
DTSTAMP:20260424T045624
CREATED:20260114T042830Z
LAST-MODIFIED:20260114T042830Z
UID:10002084-1772130600-1772139600@www.netherworldarcade.com
SUMMARY:Monster Life Drawing
DESCRIPTION:Join us for Monster Life Drawing in Netherworld’s Lost Souls Bar! \nIn conjunction with Fortitude Valley SFX queen Megan Farquharson Makeup Artist (IG @_mf_fx)\, we’re digging into a night of illustrations with a twist. We’ll provide you with the materials for a handful of still life and life drawing setups\, but in the way you’d expect from the Netherworld. You’ll be presented with fantasy\, horror and sci fi inspired models in costume and SFX makeup\, alongside creatures and items from the depths of the Netherworld. \nEach ticket comes with your first drink\, the materials and an evening of illustration guided by a host. \nThis session happens on Thursday the 29th of January at 6.30pm – grab a spot below!
URL:https://www.netherworldarcade.com/event/monster-life-drawing-5/
LOCATION:Netherworld\, 186 Brunswick Street\, Fortitude Valley\, QLD\, 4006\, Australia
CATEGORIES:Craft
ATTACH;FMTTYPE=image/jpeg:https://www.netherworldarcade.com/wp-content/uploads/2025/01/lifedraw.jpeg
GEO:-27.4558148;153.0321039
X-APPLE-STRUCTURED-LOCATION;VALUE=URI;X-ADDRESS=Netherworld 186 Brunswick Street Fortitude Valley QLD 4006 Australia;X-APPLE-RADIUS=500;X-TITLE=186 Brunswick Street:geo:153.0321039,-27.4558148
END:VEVENT
BEGIN:VEVENT
DTSTART;TZID=Australia/Brisbane:20260217T183000
DTEND;TZID=Australia/Brisbane:20260217T210000
DTSTAMP:20260424T045624
CREATED:20260114T041643Z
LAST-MODIFIED:20260124T224534Z
UID:10002080-1771353000-1771362000@www.netherworldarcade.com
SUMMARY:Captain Snips Collage Creations
DESCRIPTION:Join us armed with a glue stick and a pair of scissors on the seven seas for CAPTAIN SNIPS COLLAGE CREATIONS! \nWe’ll provide the magazines\, an A3 backing board\, glue\, scissors\, some bling and an optional theme. You’ll grab a beer\, cut up some magazines and get creative with collage. \nSafety with scissors is paramount\, Captain Snips has seen far too many hook hands and peg legs in their years to not take it seriously. \nIt kicks off at 6.30pm and each ticket comes with your first drink and the materials – grab them via www.netherworldarcade.com/events! \nTo note: \nThe event will be spread across the main area and rooms of Lost Souls\, with work spaces mainly happening in the middle bar area.\nLost Souls will not be available for karaoke during this session.\nHellmouth Diner meals can be eaten in the Lost Souls Bar Area while you art.
URL:https://www.netherworldarcade.com/event/captain-snips-collage-creations-3/
LOCATION:Netherworld\, 186 Brunswick Street\, Fortitude Valley\, QLD\, 4006\, Australia
CATEGORIES:Craft
ATTACH;FMTTYPE=image/jpeg:https://www.netherworldarcade.com/wp-content/uploads/2024/06/NW-Poster-Captain-Snips-Web.jpg
GEO:-27.4558148;153.0321039
X-APPLE-STRUCTURED-LOCATION;VALUE=URI;X-ADDRESS=Netherworld 186 Brunswick Street Fortitude Valley QLD 4006 Australia;X-APPLE-RADIUS=500;X-TITLE=186 Brunswick Street:geo:153.0321039,-27.4558148
END:VEVENT
BEGIN:VEVENT
DTSTART;TZID=Australia/Brisbane:20260129T183000
DTEND;TZID=Australia/Brisbane:20260129T210000
DTSTAMP:20260424T045624
CREATED:20260107T235348Z
LAST-MODIFIED:20260107T235348Z
UID:10002060-1769711400-1769720400@www.netherworldarcade.com
SUMMARY:Monster Life Drawing
DESCRIPTION:Join us for Monster Life Drawing in Netherworld’s Lost Souls Bar! \nIn conjunction with Fortitude Valley SFX queen Megan Farquharson Makeup Artist (IG @_mf_fx)\, we’re digging into a night of illustrations with a twist. We’ll provide you with the materials for a handful of still life and life drawing setups\, but in the way you’d expect from the Netherworld. You’ll be presented with fantasy\, horror and sci fi inspired models in costume and SFX makeup\, alongside creatures and items from the depths of the Netherworld. \nEach ticket comes with your first drink\, the materials and an evening of illustration guided by a host. \nThis session happens on Thursday the 29th of January at 6.30pm – grab a spot below!
URL:https://www.netherworldarcade.com/event/monster-life-drawing-4/
LOCATION:Netherworld\, 186 Brunswick Street\, Fortitude Valley\, QLD\, 4006\, Australia
CATEGORIES:Craft
ATTACH;FMTTYPE=image/jpeg:https://www.netherworldarcade.com/wp-content/uploads/2025/01/lifedraw.jpeg
GEO:-27.4558148;153.0321039
X-APPLE-STRUCTURED-LOCATION;VALUE=URI;X-ADDRESS=Netherworld 186 Brunswick Street Fortitude Valley QLD 4006 Australia;X-APPLE-RADIUS=500;X-TITLE=186 Brunswick Street:geo:153.0321039,-27.4558148
END:VEVENT
BEGIN:VEVENT
DTSTART;TZID=Australia/Brisbane:20260127T183000
DTEND;TZID=Australia/Brisbane:20260127T210000
DTSTAMP:20260424T045624
CREATED:20260103T060555Z
LAST-MODIFIED:20260103T060555Z
UID:10002051-1769538600-1769547600@www.netherworldarcade.com
SUMMARY:Captain Snips Collage Creations
DESCRIPTION:Join us armed with a glue stick and a pair of scissors on the seven seas for CAPTAIN SNIPS COLLAGE CREATIONS! \nWe’ll provide the magazines\, an A3 backing board\, glue\, scissors\, some bling and an optional theme. You’ll grab a beer\, cut up some magazines and get creative with collage. \nSafety with scissors is paramount\, Captain Snips has seen far too many hook hands and peg legs in their years to not take it seriously. \nIt kicks off at 6.30pm and each ticket comes with your first drink and the materials – grab them via www.netherworldarcade.com/events! \nTo note: \nThe event will be spread across the main area and rooms of Lost Souls\, with work spaces mainly happening in the middle bar area.\nLost Souls will not be available for karaoke during this session.\nHellmouth Diner meals can be eaten in the Lost Souls Bar Area while you art.
URL:https://www.netherworldarcade.com/event/captain-snips-collage-creations-2/
LOCATION:Netherworld\, 186 Brunswick Street\, Fortitude Valley\, QLD\, 4006\, Australia
CATEGORIES:Craft
ATTACH;FMTTYPE=image/jpeg:https://www.netherworldarcade.com/wp-content/uploads/2024/06/NW-Poster-Captain-Snips-Web.jpg
GEO:-27.4558148;153.0321039
X-APPLE-STRUCTURED-LOCATION;VALUE=URI;X-ADDRESS=Netherworld 186 Brunswick Street Fortitude Valley QLD 4006 Australia;X-APPLE-RADIUS=500;X-TITLE=186 Brunswick Street:geo:153.0321039,-27.4558148
END:VEVENT
BEGIN:VEVENT
DTSTART;TZID=Australia/Brisbane:20251125T183000
DTEND;TZID=Australia/Brisbane:20251125T210000
DTSTAMP:20260424T045624
CREATED:20251027T162953Z
LAST-MODIFIED:20251027T162953Z
UID:10002025-1764095400-1764104400@www.netherworldarcade.com
SUMMARY:Captain Snips Collage Creations
DESCRIPTION:Join us armed with a glue stick and a pair of scissors on the seven seas for CAPTAIN SNIPS COLLAGE CREATIONS! \nWe’ll provide the magazines\, an A3 backing board\, glue\, scissors\, some bling and an optional theme. You’ll grab a beer\, cut up some magazines and get creative with collage. \nSafety with scissors is paramount\, Captain Snips has seen far too many hook hands and peg legs in their years to not take it seriously. \nIt kicks off at 6.30pm and each ticket comes with your first drink and the materials – grab them via www.netherworldarcade.com/events! \nTo note: \nThe event will be spread across the main area and rooms of Lost Souls\, with work spaces mainly happening in the middle bar area.\nLost Souls will not be available for karaoke during this session.\nHellmouth Diner meals can be eaten in the Lost Souls Bar Area while you art.
URL:https://www.netherworldarcade.com/event/captain-snips-collage-creations-8/
LOCATION:Netherworld\, 186 Brunswick Street\, Fortitude Valley\, QLD\, 4006\, Australia
CATEGORIES:Craft
ATTACH;FMTTYPE=image/jpeg:https://www.netherworldarcade.com/wp-content/uploads/2024/06/NW-Poster-Captain-Snips-Web.jpg
GEO:-27.4558148;153.0321039
X-APPLE-STRUCTURED-LOCATION;VALUE=URI;X-ADDRESS=Netherworld 186 Brunswick Street Fortitude Valley QLD 4006 Australia;X-APPLE-RADIUS=500;X-TITLE=186 Brunswick Street:geo:153.0321039,-27.4558148
END:VEVENT
BEGIN:VEVENT
DTSTART;TZID=Australia/Brisbane:20251120T183000
DTEND;TZID=Australia/Brisbane:20251120T210000
DTSTAMP:20260424T045624
CREATED:20251023T220740Z
LAST-MODIFIED:20251023T220740Z
UID:10001995-1763663400-1763672400@www.netherworldarcade.com
SUMMARY:Monster Life Drawing
DESCRIPTION:**Tickets for this event will go on sale at midday on Friday the 24th of October \nJoin us for Monster Life Drawing in Netherworld’s Lost Souls Bar! \nIn conjunction with Fortitude Valley SFX queen Megan Farquharson Makeup Artist (IG @_mf_fx)\, we’re digging into a night of illustrations with a twist. We’ll provide you with the materials for a handful of still life and life drawing setups\, but in the way you’d expect from the Netherworld. You’ll be presented with fantasy\, horror and sci fi inspired models in costume and SFX makeup\, alongside creatures and items from the depths of the Netherworld. \nEach ticket comes with your first drink\, the materials and an evening of illustration guided by a host. \nThis session happens on Thursday the 20th of November at 6.30pm – grab a spot below!
URL:https://www.netherworldarcade.com/event/monster-life-drawing-3/
LOCATION:Netherworld\, 186 Brunswick Street\, Fortitude Valley\, QLD\, 4006\, Australia
CATEGORIES:Craft
ATTACH;FMTTYPE=image/jpeg:https://www.netherworldarcade.com/wp-content/uploads/2025/01/lifedraw.jpeg
GEO:-27.4558148;153.0321039
X-APPLE-STRUCTURED-LOCATION;VALUE=URI;X-ADDRESS=Netherworld 186 Brunswick Street Fortitude Valley QLD 4006 Australia;X-APPLE-RADIUS=500;X-TITLE=186 Brunswick Street:geo:153.0321039,-27.4558148
END:VEVENT
BEGIN:VEVENT
DTSTART;TZID=Australia/Brisbane:20251028T183000
DTEND;TZID=Australia/Brisbane:20251028T210000
DTSTAMP:20260424T045624
CREATED:20250929T103502Z
LAST-MODIFIED:20250929T103502Z
UID:10001988-1761676200-1761685200@www.netherworldarcade.com
SUMMARY:Captain Snips Collage Creations
DESCRIPTION:Join us armed with a glue stick and a pair of scissors on the seven seas for CAPTAIN SNIPS COLLAGE CREATIONS! \nWe’ll provide the magazines\, an A3 backing board\, glue\, scissors\, some bling and an optional theme. You’ll grab a beer\, cut up some magazines and get creative with collage. \nSafety with scissors is paramount\, Captain Snips has seen far too many hook hands and peg legs in their years to not take it seriously. \nIt kicks off at 6.30pm and each ticket comes with your first drink and the materials – grab them via www.netherworldarcade.com/events! \nTo note: \nThe event will be spread across the main area and rooms of Lost Souls\, with work spaces mainly happening in the middle bar area.\nLost Souls will not be available for karaoke during this session.\nHellmouth Diner meals can be eaten in the Lost Souls Bar Area while you art.
URL:https://www.netherworldarcade.com/event/captain-snips-collage-creations/
LOCATION:Netherworld\, 186 Brunswick Street\, Fortitude Valley\, QLD\, 4006\, Australia
CATEGORIES:Craft
ATTACH;FMTTYPE=image/jpeg:https://www.netherworldarcade.com/wp-content/uploads/2024/06/NW-Poster-Captain-Snips-Web.jpg
GEO:-27.4558148;153.0321039
X-APPLE-STRUCTURED-LOCATION;VALUE=URI;X-ADDRESS=Netherworld 186 Brunswick Street Fortitude Valley QLD 4006 Australia;X-APPLE-RADIUS=500;X-TITLE=186 Brunswick Street:geo:153.0321039,-27.4558148
END:VEVENT
BEGIN:VEVENT
DTSTART;TZID=Australia/Brisbane:20251023T183000
DTEND;TZID=Australia/Brisbane:20251023T210000
DTSTAMP:20260424T045624
CREATED:20250924T225126Z
LAST-MODIFIED:20250924T225146Z
UID:10001980-1761244200-1761253200@www.netherworldarcade.com
SUMMARY:Monster Life Drawing
DESCRIPTION:**Tickets for this event will go on sale at midday on Friday the 26th of September \nJoin us for Monster Life Drawing in Netherworld’s Lost Souls Bar! \nIn conjunction with Fortitude Valley SFX queen Megan Farquharson Makeup Artist (IG @_mf_fx)\, we’re digging into a night of illustrations with a twist. We’ll provide you with the materials for a handful of still life and life drawing setups\, but in the way you’d expect from the Netherworld. You’ll be presented with fantasy\, horror and sci fi inspired models in costume and SFX makeup\, alongside creatures and items from the depths of the Netherworld. \nEach ticket comes with your first drink\, the materials and an evening of illustration guided by a host. \nThis session happens on Thursday the 23rd of October at 6.30pm – grab a spot below!
URL:https://www.netherworldarcade.com/event/monster-life-drawing-2/
LOCATION:Netherworld\, 186 Brunswick Street\, Fortitude Valley\, QLD\, 4006\, Australia
CATEGORIES:Craft
ATTACH;FMTTYPE=image/jpeg:https://www.netherworldarcade.com/wp-content/uploads/2025/01/lifedraw.jpeg
GEO:-27.4558148;153.0321039
X-APPLE-STRUCTURED-LOCATION;VALUE=URI;X-ADDRESS=Netherworld 186 Brunswick Street Fortitude Valley QLD 4006 Australia;X-APPLE-RADIUS=500;X-TITLE=186 Brunswick Street:geo:153.0321039,-27.4558148
END:VEVENT
END:VCALENDAR