BEGIN:VCALENDAR
VERSION:2.0
PRODID:-//Netherworld - ECPv6.15.20//NONSGML v1.0//EN
CALSCALE:GREGORIAN
METHOD:PUBLISH
X-ORIGINAL-URL:https://www.netherworldarcade.com
X-WR-CALDESC:Events for Netherworld
REFRESH-INTERVAL;VALUE=DURATION:PT1H
X-Robots-Tag:noindex
X-PUBLISHED-TTL:PT1H
BEGIN:VTIMEZONE
TZID:Australia/Brisbane
BEGIN:STANDARD
TZOFFSETFROM:+1000
TZOFFSETTO:+1000
TZNAME:AEST
DTSTART:20250101T000000
END:STANDARD
END:VTIMEZONE
BEGIN:VEVENT
DTSTART;TZID=Australia/Brisbane:20260428T183000
DTEND;TZID=Australia/Brisbane:20260428T210000
DTSTAMP:20260424T033257
CREATED:20260217T105409Z
LAST-MODIFIED:20260217T105409Z
UID:10002125-1777401000-1777410000@www.netherworldarcade.com
SUMMARY:Captain Snips Collage Creations
DESCRIPTION:Join us armed with a glue stick and a pair of scissors on the seven seas for CAPTAIN SNIPS COLLAGE CREATIONS! \nWe’ll provide the magazines\, an A3 backing board\, glue\, scissors\, some bling and an optional theme. You’ll grab a beer\, cut up some magazines and get creative with collage. \nSafety with scissors is paramount\, Captain Snips has seen far too many hook hands and peg legs in their years to not take it seriously. \nIt kicks off at 6.30pm and each ticket comes with your first drink and the materials – grab them via www.netherworldarcade.com/events! \nTo note: \nThe event will be spread across the main area and rooms of Lost Souls\, with work spaces mainly happening in the middle bar area.\nLost Souls will not be available for karaoke during this session.\nHellmouth Diner meals can be eaten in the Lost Souls Bar Area while you art.
URL:https://www.netherworldarcade.com/event/captain-snips-collage-creations-7/
LOCATION:Netherworld\, 186 Brunswick Street\, Fortitude Valley\, QLD\, 4006\, Australia
CATEGORIES:Craft
ATTACH;FMTTYPE=image/jpeg:https://www.netherworldarcade.com/wp-content/uploads/2024/06/NW-Poster-Captain-Snips-Web.jpg
GEO:-27.4558148;153.0321039
X-APPLE-STRUCTURED-LOCATION;VALUE=URI;X-ADDRESS=Netherworld 186 Brunswick Street Fortitude Valley QLD 4006 Australia;X-APPLE-RADIUS=500;X-TITLE=186 Brunswick Street:geo:153.0321039,-27.4558148
END:VEVENT
BEGIN:VEVENT
DTSTART;TZID=Australia/Brisbane:20260430T183000
DTEND;TZID=Australia/Brisbane:20260430T210000
DTSTAMP:20260424T033257
CREATED:20260324T064529Z
LAST-MODIFIED:20260324T064529Z
UID:10002152-1777573800-1777582800@www.netherworldarcade.com
SUMMARY:Monster Life Drawing
DESCRIPTION:Join us for Monster Life Drawing in Netherworld’s Lost Souls Bar! \nIn conjunction with Fortitude Valley SFX queen Megan Farquharson Makeup Artist (IG @_mf_fx)\, we’re digging into a night of illustrations with a twist. We’ll provide you with the materials for a handful of still life and life drawing setups\, but in the way you’d expect from the Netherworld. You’ll be presented with fantasy\, horror and sci fi inspired models in costume and SFX makeup\, alongside creatures and items from the depths of the Netherworld. \nEach ticket comes with your first drink\, the materials and an evening of illustration guided by a host. \nThis session happens on Thursday the 30th of April at 6.30pm – grab a spot below!
URL:https://www.netherworldarcade.com/event/monster-life-drawing-7/
LOCATION:Netherworld\, 186 Brunswick Street\, Fortitude Valley\, QLD\, 4006\, Australia
CATEGORIES:Craft
ATTACH;FMTTYPE=image/jpeg:https://www.netherworldarcade.com/wp-content/uploads/2025/01/lifedraw.jpeg
GEO:-27.4558148;153.0321039
X-APPLE-STRUCTURED-LOCATION;VALUE=URI;X-ADDRESS=Netherworld 186 Brunswick Street Fortitude Valley QLD 4006 Australia;X-APPLE-RADIUS=500;X-TITLE=186 Brunswick Street:geo:153.0321039,-27.4558148
END:VEVENT
BEGIN:VEVENT
DTSTART;TZID=Australia/Brisbane:20260512T180000
DTEND;TZID=Australia/Brisbane:20260512T220000
DTSTAMP:20260424T033257
CREATED:20260409T072016Z
LAST-MODIFIED:20260409T072016Z
UID:10002179-1778608800-1778623200@www.netherworldarcade.com
SUMMARY:Horrid Little Things
DESCRIPTION:Join us for HORRID LITTLE THINGS\, a monthly event where we make nasty tiny creatures with polymer clay\, bake ‘em and give them a fresh coat of gunky paint. It happens over a couple of the rooms in Lost Souls with a host and includes all materials needed along with your first drink. It happens from 6pm until 10pm monthly. Time it right and you’ll grab a Hellmouth Diner meal while your critter is frying in the oven. Tickets are limited to 16 persons and can be grabbed below!
URL:https://www.netherworldarcade.com/event/horrid-little-things-5/
LOCATION:Netherworld\, 186 Brunswick Street\, Fortitude Valley\, QLD\, 4006\, Australia
CATEGORIES:Craft
ATTACH;FMTTYPE=image/jpeg:https://www.netherworldarcade.com/wp-content/uploads/2025/05/Horrdi-Little-Things-Posterwe.jpg
GEO:-27.4558148;153.0321039
X-APPLE-STRUCTURED-LOCATION;VALUE=URI;X-ADDRESS=Netherworld 186 Brunswick Street Fortitude Valley QLD 4006 Australia;X-APPLE-RADIUS=500;X-TITLE=186 Brunswick Street:geo:153.0321039,-27.4558148
END:VEVENT
END:VCALENDAR