BEGIN:VCALENDAR
VERSION:2.0
PRODID:-//Netherworld - ECPv6.15.20//NONSGML v1.0//EN
CALSCALE:GREGORIAN
METHOD:PUBLISH
X-ORIGINAL-URL:https://www.netherworldarcade.com
X-WR-CALDESC:Events for Netherworld
REFRESH-INTERVAL;VALUE=DURATION:PT1H
X-Robots-Tag:noindex
X-PUBLISHED-TTL:PT1H
BEGIN:VTIMEZONE
TZID:Australia/Brisbane
BEGIN:STANDARD
TZOFFSETFROM:+1000
TZOFFSETTO:+1000
TZNAME:AEST
DTSTART:20250101T000000
END:STANDARD
END:VTIMEZONE
BEGIN:VEVENT
DTSTART;TZID=Australia/Brisbane:20260426T150000
DTEND;TZID=Australia/Brisbane:20260426T180000
DTSTAMP:20260424T022651
CREATED:20260328T043458Z
LAST-MODIFIED:20260328T043609Z
UID:10002161-1777215600-1777226400@www.netherworldarcade.com
SUMMARY:Dirty Linen + Dahlia - Live in the Arcade
DESCRIPTION:Join us on Sunday the 26th of April for a feelings overload from Dirty Linen & Dahlia – Live in the Arcade! \nDahlia from Bundjalung Lismore\, just as likely to have you dancing\, as crying into your beer while Meanjin locals Dirty Linen are bringing their weepy sapphic rock. But don’t be fooled\, neither band is content to let you sit quietly through it all\, this is catharsis as loud and noisy as it’s ever been! \n@dirtylinenband\n@dahlia.and.friends \nKicking off at 3pm and free to join in and/or get rowdy! Netherworld opens from midday for pre gig beers\, burgers and games.
URL:https://www.netherworldarcade.com/event/dirty-linen-dahlia-live-in-the-arcade/
LOCATION:Netherworld\, 186 Brunswick Street\, Fortitude Valley\, QLD\, 4006\, Australia
CATEGORIES:Gigs
ATTACH;FMTTYPE=image/jpeg:https://www.netherworldarcade.com/wp-content/uploads/2026/03/April26_websmall.jpg
GEO:-27.4558148;153.0321039
X-APPLE-STRUCTURED-LOCATION;VALUE=URI;X-ADDRESS=Netherworld 186 Brunswick Street Fortitude Valley QLD 4006 Australia;X-APPLE-RADIUS=500;X-TITLE=186 Brunswick Street:geo:153.0321039,-27.4558148
END:VEVENT
BEGIN:VEVENT
DTSTART;TZID=Australia/Brisbane:20260503T150000
DTEND;TZID=Australia/Brisbane:20260503T180000
DTSTAMP:20260424T022651
CREATED:20260416T230650Z
LAST-MODIFIED:20260416T230650Z
UID:10002182-1777820400-1777831200@www.netherworldarcade.com
SUMMARY:The Spivs + Dead Hand Blues - Live in the Arcade
DESCRIPTION:Join us on Sunday 3rd of May when The Spivs and Dead Hand Blues blow the roof of Netherworld! \nKicking things off are Dead Hand Blues\, who deliver heavy\, blues-driven rock. Loaded with overdriven riffs\, massive vocals\, and pounding beats. \nhttps://www.instagram.com/deadhandblues/ \nNext up are Gold Coast band The Spivs\, bringing us their raw\, high-energy 60s garage rock meets Oz-troit grit. \nhttps://www.instagram.com/the_spivs/ \nBoth these bands are built to be played loud\, so grab a drink and meet us in the arcade from 3pm. Let’s get rowdy! Free to join in.
URL:https://www.netherworldarcade.com/event/the-spivs-dead-hand-blues-live-in-the-arcade/
LOCATION:Netherworld\, 186 Brunswick Street\, Fortitude Valley\, QLD\, 4006\, Australia
CATEGORIES:Gigs
ATTACH;FMTTYPE=image/jpeg:https://www.netherworldarcade.com/wp-content/uploads/2026/04/May3_web.jpg
GEO:-27.4558148;153.0321039
X-APPLE-STRUCTURED-LOCATION;VALUE=URI;X-ADDRESS=Netherworld 186 Brunswick Street Fortitude Valley QLD 4006 Australia;X-APPLE-RADIUS=500;X-TITLE=186 Brunswick Street:geo:153.0321039,-27.4558148
END:VEVENT
END:VCALENDAR