BEGIN:VCALENDAR
VERSION:2.0
PRODID:-//Netherworld - ECPv6.15.20//NONSGML v1.0//EN
CALSCALE:GREGORIAN
METHOD:PUBLISH
X-WR-CALNAME:Netherworld
X-ORIGINAL-URL:https://www.netherworldarcade.com
X-WR-CALDESC:Events for Netherworld
REFRESH-INTERVAL;VALUE=DURATION:PT1H
X-Robots-Tag:noindex
X-PUBLISHED-TTL:PT1H
BEGIN:VTIMEZONE
TZID:Australia/Brisbane
BEGIN:STANDARD
TZOFFSETFROM:+1000
TZOFFSETTO:+1000
TZNAME:AEST
DTSTART:20240101T000000
END:STANDARD
END:VTIMEZONE
BEGIN:VEVENT
DTSTART;TZID=Australia/Brisbane:20251111T183000
DTEND;TZID=Australia/Brisbane:20251111T220000
DTSTAMP:20260424T112513
CREATED:20251014T075130Z
LAST-MODIFIED:20251014T075428Z
UID:10001993-1762885800-1762898400@www.netherworldarcade.com
SUMMARY:Paints & Pints - Ginger Dread Men
DESCRIPTION:**Tickets for this edition will go on sale at midday on Wednesday the 15th of October \nJoin us for Paints & Pints – an evening of painting miniatures with like minded folks. For this festive edition you’ll be painting 3 mischievous Ginger Dread Men\, ahead of any yuletide adventures. \nThe evening is open to all skills levels – we’ll help out any beginners with supplied brushes and paints and painting guides\, or feel free to paint at your own pace. \nSpaces are limited to 16 persons and each $30 ticket comes with your first drink\, all painting materials and the minis. \nIt happens from 6.30pm to 10pm on Tuesday the 11th of November in the Lost Souls area of Netherworld. You’ll be in one of two rooms of 6-12 persons and dinner can be ordered from the Hellmouth Diner during the session.This event will run monthly through the year with new minis for each edition. Grab tickets via www.netherworldarcade.com/events!
URL:https://www.netherworldarcade.com/event/paints-pints-ginger-dread-men/
LOCATION:Netherworld\, 186 Brunswick Street\, Fortitude Valley\, QLD\, 4006\, Australia
CATEGORIES:Paints & Pints
ATTACH;FMTTYPE=image/png:https://www.netherworldarcade.com/wp-content/uploads/2025/10/gingerweb.png
GEO:-27.4558148;153.0321039
X-APPLE-STRUCTURED-LOCATION;VALUE=URI;X-ADDRESS=Netherworld 186 Brunswick Street Fortitude Valley QLD 4006 Australia;X-APPLE-RADIUS=500;X-TITLE=186 Brunswick Street:geo:153.0321039,-27.4558148
END:VEVENT
END:VCALENDAR