BEGIN:VCALENDAR
VERSION:2.0
PRODID:-//Netherworld - ECPv6.15.20//NONSGML v1.0//EN
CALSCALE:GREGORIAN
METHOD:PUBLISH
X-WR-CALNAME:Netherworld
X-ORIGINAL-URL:https://www.netherworldarcade.com
X-WR-CALDESC:Events for Netherworld
REFRESH-INTERVAL;VALUE=DURATION:PT1H
X-Robots-Tag:noindex
X-PUBLISHED-TTL:PT1H
BEGIN:VTIMEZONE
TZID:Australia/Brisbane
BEGIN:STANDARD
TZOFFSETFROM:+1000
TZOFFSETTO:+1000
TZNAME:AEST
DTSTART:20240101T000000
END:STANDARD
END:VTIMEZONE
BEGIN:VEVENT
DTSTART;TZID=Australia/Brisbane:20260412T120000
DTEND;TZID=Australia/Brisbane:20260412T170000
DTSTAMP:20260424T033219
CREATED:20260324T063519Z
LAST-MODIFIED:20260324T063519Z
UID:10002150-1775995200-1776013200@www.netherworldarcade.com
SUMMARY:Dice Rolls & Flagons - Casual Board Game Meetup
DESCRIPTION:Join us for Dice Rolls & Flagons\, a social board game event. Happening monthly on a Sunday afternoon in Netherworld’s Lost Souls bar. It’s a free to join event for solo players or groups to learn and play a range of brilliant board games guided by the Dice Rolls & Flagons team! On the lineup are modern and vintage classics Catan\, Zombicide\, Talisman\, HeroQuest and many more. \nNo experience necessary – the Flagons crew will be there to guide you through the nitty gritty. Roll some dice\, make some mates! It happens from Midday until 5pm and is free to join in. Follow Dice Rolls and Flagons via https://www.facebook.com/dicerollsandflagons
URL:https://www.netherworldarcade.com/event/dice-rolls-flagons-casual-board-game-meetup-2/
LOCATION:Netherworld\, 186 Brunswick Street\, Fortitude Valley\, QLD\, 4006\, Australia
CATEGORIES:Tabletop
ATTACH;FMTTYPE=image/jpeg:https://www.netherworldarcade.com/wp-content/uploads/2025/05/Dice-Rolls-Flagons-Board-Game-Poster.jpg
GEO:-27.4558148;153.0321039
X-APPLE-STRUCTURED-LOCATION;VALUE=URI;X-ADDRESS=Netherworld 186 Brunswick Street Fortitude Valley QLD 4006 Australia;X-APPLE-RADIUS=500;X-TITLE=186 Brunswick Street:geo:153.0321039,-27.4558148
END:VEVENT
BEGIN:VEVENT
DTSTART;TZID=Australia/Brisbane:20260330T183000
DTEND;TZID=Australia/Brisbane:20260330T220000
DTSTAMP:20260424T033219
CREATED:20260217T105629Z
LAST-MODIFIED:20260217T105629Z
UID:10002126-1774895400-1774908000@www.netherworldarcade.com
SUMMARY:Trash MTG - Pauper Commander
DESCRIPTION:What the hell is Trash MTG!? It’s a Magic The Gathering event dual hosted by Netherworld and Vault Games\,but you only get to use your junky cheap cards. Commander with all commons in the 99. \nWe want you to MINE YOUR CARDS you’d otherwise ignore. The ones sitting in shoe boxes at the bottom of a cupboard\, potentially never to see the light of day again…until now. \nIf you don’t have quite enough cards to put something together\, we’ll have a collection of 10\,000 cards on site you can dig into to trade in and out of. \nPauper Commander follows the normal Commander rules except… your Commander is an uncommon\, and the rest of the 99 are commons. Health is a hair lower at 30 and commander damage is 16. In the spirit of ‘Trash MTG’ and an encouragement to use what you have instead of riding the meta wave\, we’ll have a house rule that regardless of the history of the card\, all common cards included must be common according to the card. \nIf you haven’t played Commander before\, the Vault Games and Netherworld crew are happy to teach you and will even have a handful of house decks on hand you can utilise if you don’t have the trash resources to pull a deck together. \nIf you’re after any Magic sealed products\, make sure you swing over to Vault Games CBD\, Clayfield or online via vaultgames.com.au! \nEach ticket comes with your first drink and a custom token card. It happens at 6.30 to 10pm. Tickets to the next Netherworld session can be grabbed via www.netherworldarcade.com/events and Vault Games sessions via www.vaultgames.com.au!
URL:https://www.netherworldarcade.com/event/trash-mtg-pauper-commander-3/
LOCATION:Netherworld\, 186 Brunswick Street\, Fortitude Valley\, QLD\, 4006\, Australia
CATEGORIES:Tabletop
ATTACH;FMTTYPE=image/png:https://www.netherworldarcade.com/wp-content/uploads/2026/01/NW-Poster-Trash-MTG-Dual-Venue-2026.png
GEO:-27.4558148;153.0321039
X-APPLE-STRUCTURED-LOCATION;VALUE=URI;X-ADDRESS=Netherworld 186 Brunswick Street Fortitude Valley QLD 4006 Australia;X-APPLE-RADIUS=500;X-TITLE=186 Brunswick Street:geo:153.0321039,-27.4558148
END:VEVENT
BEGIN:VEVENT
DTSTART;TZID=Australia/Brisbane:20260201T120000
DTEND;TZID=Australia/Brisbane:20260201T170000
DTSTAMP:20260424T033219
CREATED:20260113T051339Z
LAST-MODIFIED:20260113T051339Z
UID:10002063-1769947200-1769965200@www.netherworldarcade.com
SUMMARY:Dice Rolls & Flagons - Casual Board Game Meetup
DESCRIPTION:Join us for Dice Rolls & Flagons\, a social board game event. Happening monthly on a Sunday afternoon in Netherworld’s Lost Souls bar. It’s a free to join event for solo players or groups to learn and play a range of brilliant board games guided by the Dice Rolls & Flagons team! On the lineup are modern and vintage classics Catan\, Zombicide\, Talisman\, HeroQuest and many more. \nNo experience necessary – the Flagons crew will be there to guide you through the nitty gritty. Roll some dice\, make some mates! It happens from Midday until 5pm and is free to join in. Follow Dice Rolls and Flagons via https://www.facebook.com/dicerollsandflagons
URL:https://www.netherworldarcade.com/event/dice-rolls-flagons-casual-board-game-meetup/
LOCATION:Netherworld\, 186 Brunswick Street\, Fortitude Valley\, QLD\, 4006\, Australia
CATEGORIES:Tabletop
ATTACH;FMTTYPE=image/jpeg:https://www.netherworldarcade.com/wp-content/uploads/2025/05/Dice-Rolls-Flagons-Board-Game-Poster.jpg
GEO:-27.4558148;153.0321039
X-APPLE-STRUCTURED-LOCATION;VALUE=URI;X-ADDRESS=Netherworld 186 Brunswick Street Fortitude Valley QLD 4006 Australia;X-APPLE-RADIUS=500;X-TITLE=186 Brunswick Street:geo:153.0321039,-27.4558148
END:VEVENT
BEGIN:VEVENT
DTSTART;TZID=Australia/Brisbane:20260119T183000
DTEND;TZID=Australia/Brisbane:20260119T220000
DTSTAMP:20260424T033219
CREATED:20260103T061252Z
LAST-MODIFIED:20260113T055701Z
UID:10002054-1768847400-1768860000@www.netherworldarcade.com
SUMMARY:Trash MTG - Pauper Commander
DESCRIPTION:What the hell is Trash MTG!? It’s a Magic The Gathering event dual hosted by Netherworld and Vault Games\,but you only get to use your junky cheap cards. Commander with all commons in the 99. \nWe want you to MINE YOUR CARDS you’d otherwise ignore. The ones sitting in shoe boxes at the bottom of a cupboard\, potentially never to see the light of day again…until now. \nIf you don’t have quite enough cards to put something together\, we’ll have a collection of 10\,000 cards on site you can dig into to trade in and out of. \nPauper Commander follows the normal Commander rules except… your Commander is an uncommon\, and the rest of the 99 are commons. Health is a hair lower at 30 and commander damage is 16. In the spirit of ‘Trash MTG’ and an encouragement to use what you have instead of riding the meta wave\, we’ll have a house rule that regardless of the history of the card\, all common cards included must be common according to the card. \nIf you haven’t played Commander before\, the Vault Games and Netherworld crew are happy to teach you and will even have a handful of house decks on hand you can utilise if you don’t have the trash resources to pull a deck together. \nIf you’re after any Magic sealed products\, make sure you swing over to Vault Games CBD\, Clayfield or online via vaultgames.com.au! \nEach ticket comes with your first drink and a custom token card. It happens at 6.30 to 10pm. Tickets to the next Netherworld session can be grabbed via www.netherworldarcade.com/events and Vault Games sessions via www.vaultgames.com.au!
URL:https://www.netherworldarcade.com/event/trash-mtg-pauper-commander-2/
LOCATION:Netherworld\, 186 Brunswick Street\, Fortitude Valley\, QLD\, 4006\, Australia
CATEGORIES:Tabletop
ATTACH;FMTTYPE=image/png:https://www.netherworldarcade.com/wp-content/uploads/2026/01/NW-Poster-Trash-MTG-Dual-Venue-2026.png
GEO:-27.4558148;153.0321039
X-APPLE-STRUCTURED-LOCATION;VALUE=URI;X-ADDRESS=Netherworld 186 Brunswick Street Fortitude Valley QLD 4006 Australia;X-APPLE-RADIUS=500;X-TITLE=186 Brunswick Street:geo:153.0321039,-27.4558148
END:VEVENT
BEGIN:VEVENT
DTSTART;TZID=Australia/Brisbane:20251207T120000
DTEND;TZID=Australia/Brisbane:20251207T170000
DTSTAMP:20260424T033219
CREATED:20251027T162237Z
LAST-MODIFIED:20251027T162237Z
UID:10002022-1765108800-1765126800@www.netherworldarcade.com
SUMMARY:Dice Rolls & Flagons - Casual Board Game Meetup
DESCRIPTION:Join us for Dice Rolls & Flagons\, a social board game event. Happening monthly on a Sunday afternoon in Netherworld’s Lost Souls bar. It’s a free to join event for solo players or groups to learn and play a range of brilliant board games guided by the Dice Rolls & Flagons team! On the lineup are modern and vintage classics Catan\, Zombicide\, Talisman\, HeroQuest and many more. \nNo experience necessary – the Flagons crew will be there to guide you through the nitty gritty. Roll some dice\, make some mates! It happens from Midday until 5pm and is free to join in. Follow Dice Rolls and Flagons via https://www.facebook.com/dicerollsandflagons
URL:https://www.netherworldarcade.com/event/dice-rolls-flagons-casual-board-game-meetup-7/
LOCATION:Netherworld\, 186 Brunswick Street\, Fortitude Valley\, QLD\, 4006\, Australia
CATEGORIES:Tabletop
ATTACH;FMTTYPE=image/jpeg:https://www.netherworldarcade.com/wp-content/uploads/2025/05/Dice-Rolls-Flagons-Board-Game-Poster.jpg
GEO:-27.4558148;153.0321039
X-APPLE-STRUCTURED-LOCATION;VALUE=URI;X-ADDRESS=Netherworld 186 Brunswick Street Fortitude Valley QLD 4006 Australia;X-APPLE-RADIUS=500;X-TITLE=186 Brunswick Street:geo:153.0321039,-27.4558148
END:VEVENT
BEGIN:VEVENT
DTSTART;TZID=Australia/Brisbane:20251201T183000
DTEND;TZID=Australia/Brisbane:20251201T220000
DTSTAMP:20260424T033219
CREATED:20250929T095942Z
LAST-MODIFIED:20250929T095942Z
UID:10001984-1764613800-1764626400@www.netherworldarcade.com
SUMMARY:Trash MTG - Pauper Commander
DESCRIPTION:What the hell is Trash MTG!? It’s a Magic The Gathering event dual hosted by Netherworld and Vault Games\,but you only get to use your junky cheap cards. Commander with all commons in the 99. \nWe want you to MINE YOUR CARDS you’d otherwise ignore. The ones sitting in shoe boxes at the bottom of a cupboard\, potentially never to see the light of day again…until now. \nIf you don’t have quite enough cards to put something together\, we’ll have a collection of 10\,000 cards on site you can dig into to trade in and out of. \nPauper Commander follows the normal Commander rules except… your Commander is an uncommon\, and the rest of the 99 are commons. Health is a hair lower at 30 and commander damage is 16. In the spirit of ‘Trash MTG’ and an encouragement to use what you have instead of riding the meta wave\, we’ll have a house rule that regardless of the history of the card\, all common cards included must be common according to the card. \nIf you haven’t played Commander before\, the Vault Games and Netherworld crew are happy to teach you and will even have a handful of house decks on hand you can utilise if you don’t have the trash resources to pull a deck together. \nIf you’re after any Magic sealed products\, make sure you swing over to Vault Games CBD\, Clayfield or online via vaultgames.com.au! \nEach ticket comes with your first drink and a custom token card illustrated by Nelson Gibbons (Choose between Insect\, Zombie\, Goblin\, Crab and Spirit. – new tokens coming soon!). It happens at 6.30 to 10pm. Tickets to the next Netherworld session can be grabbed via www.netherworldarcade.com/events and Vault Games sessions via www.vaultgames.com.au!
URL:https://www.netherworldarcade.com/event/trash-mtg-pauper-commander-5/
LOCATION:Netherworld\, 186 Brunswick Street\, Fortitude Valley\, QLD\, 4006\, Australia
CATEGORIES:Tabletop
ATTACH;FMTTYPE=image/jpeg:https://www.netherworldarcade.com/wp-content/uploads/2025/01/NW-Poster-Trash-MTG-Dual-Venue-2025-Web.jpg
GEO:-27.4558148;153.0321039
X-APPLE-STRUCTURED-LOCATION;VALUE=URI;X-ADDRESS=Netherworld 186 Brunswick Street Fortitude Valley QLD 4006 Australia;X-APPLE-RADIUS=500;X-TITLE=186 Brunswick Street:geo:153.0321039,-27.4558148
END:VEVENT
BEGIN:VEVENT
DTSTART;TZID=Australia/Brisbane:20251102T120000
DTEND;TZID=Australia/Brisbane:20251102T170000
DTSTAMP:20260424T033219
CREATED:20250929T103846Z
LAST-MODIFIED:20250929T103846Z
UID:10001990-1762084800-1762102800@www.netherworldarcade.com
SUMMARY:Dice Rolls & Flagons - Casual Board Game Meetup
DESCRIPTION:Join us for Dice Rolls & Flagons\, a social board game event. Happening monthly on a Sunday afternoon in Netherworld’s Lost Souls bar. It’s a free to join event for solo players or groups to learn and play a range of brilliant board games guided by the Dice Rolls & Flagons team! On the lineup are modern and vintage classics Catan\, Zombicide\, Talisman\, HeroQuest and many more. \nNo experience necessary – the Flagons crew will be there to guide you through the nitty gritty. Roll some dice\, make some mates! It happens from Midday until 5pm and is free to join in. Follow Dice Rolls and Flagons via https://www.facebook.com/dicerollsandflagons
URL:https://www.netherworldarcade.com/event/dice-rolls-flagons-casual-board-game-meetup-6/
LOCATION:Netherworld\, 186 Brunswick Street\, Fortitude Valley\, QLD\, 4006\, Australia
CATEGORIES:Tabletop
ATTACH;FMTTYPE=image/jpeg:https://www.netherworldarcade.com/wp-content/uploads/2025/05/Dice-Rolls-Flagons-Board-Game-Poster.jpg
GEO:-27.4558148;153.0321039
X-APPLE-STRUCTURED-LOCATION;VALUE=URI;X-ADDRESS=Netherworld 186 Brunswick Street Fortitude Valley QLD 4006 Australia;X-APPLE-RADIUS=500;X-TITLE=186 Brunswick Street:geo:153.0321039,-27.4558148
END:VEVENT
END:VCALENDAR